BEGIN:VCALENDAR
VERSION:2.0
X-WR-TIMEZONE:Europe/Budapest
PRODID:AWE3
CALSCALE:GREGORIAN
BEGIN:VTIMEZONE
TZID:Europe/Budapest
X-LIC-LOCATION:Europe/Budapest
BEGIN:STANDARD
DTSTART:20221030T030000
TZOFFSETFROM:+0200
TZOFFSETTO:+0100
RDATE:20231029T030000
TZNAME:CET
END:STANDARD
BEGIN:DAYLIGHT
DTSTART:20220327T020000
TZOFFSETFROM:+0100
TZOFFSETTO:+0200
RDATE:20230326T020000
TZNAME:CEST
END:DAYLIGHT
END:VTIMEZONE
BEGIN:VEVENT
CLASS:PUBLIC
UID:b51060b73ed1abddf54a0a378a12c6c0
TRANSP:TRANSPARENCY
SUMMARY:Gyereknap
DTSTART;TZID=Europe/Budapest:20240526T000000
DTEND;TZID=Europe/Budapest:20240526T010000
DESCRIPTION:Az állatkerti gyereknapon rengeteg színes élmény vár kicsiket és nagyokat. 
X-ALT-DESC:<p>Az állatkerti gyereknapon rengeteg színes élmény vár kicsiket és nagyokat. </p>
LOCATION:Győri Állatkert
URL:https://zoogyor.com/icalendar/event/ice_id/11
END:VEVENT
END:VCALENDAR
