BEGIN:VCALENDAR
VERSION:2.0
X-WR-TIMEZONE:Europe/Budapest
PRODID:AWE3
CALSCALE:GREGORIAN
BEGIN:VTIMEZONE
TZID:Europe/Budapest
X-LIC-LOCATION:Europe/Budapest
BEGIN:STANDARD
DTSTART:20221030T030000
TZOFFSETFROM:+0200
TZOFFSETTO:+0100
RDATE:20231029T030000
TZNAME:CET
END:STANDARD
BEGIN:DAYLIGHT
DTSTART:20220327T020000
TZOFFSETFROM:+0100
TZOFFSETTO:+0200
RDATE:20230326T020000
TZNAME:CEST
END:DAYLIGHT
END:VTIMEZONE
BEGIN:VEVENT
CLASS:PUBLIC
UID:e93b312b1a6b4c6c44208a255173cf63
TRANSP:TRANSPARENCY
SUMMARY:Nyáriszünet nyitó nap
DTSTART;TZID=Europe/Budapest:20240622T100000
DTEND;TZID=Europe/Budapest:20240622T220000
DESCRIPTION:Hosszabbított nyitvatartással látogatható az állatkert, esti programok, séták és kulisszatitkok.
X-ALT-DESC:<p>Hosszabbított nyitvatartással látogatható az állatkert, esti programok, séták és kulisszatitkok.</p>
LOCATION:
URL:https://zoogyor.com/icalendar/event/ice_id/18
END:VEVENT
END:VCALENDAR
