BEGIN:VCALENDAR
VERSION:2.0
X-WR-TIMEZONE:Europe/Budapest
PRODID:AWE3
CALSCALE:GREGORIAN
BEGIN:VTIMEZONE
TZID:Europe/Budapest
X-LIC-LOCATION:Europe/Budapest
BEGIN:STANDARD
DTSTART:20221030T030000
TZOFFSETFROM:+0200
TZOFFSETTO:+0100
RDATE:20231029T030000
TZNAME:CET
END:STANDARD
BEGIN:DAYLIGHT
DTSTART:20220327T020000
TZOFFSETFROM:+0100
TZOFFSETTO:+0200
RDATE:20230326T020000
TZNAME:CEST
END:DAYLIGHT
END:VTIMEZONE
BEGIN:VEVENT
CLASS:PUBLIC
UID:7a266ad2cc86d0d232998948fcf0011b
TRANSP:TRANSPARENCY
SUMMARY:Zootábor 2. hét
DTSTART;TZID=Europe/Budapest:20240701T080000
DTEND;TZID=Europe/Budapest:20240705T160000
DESCRIPTION:A nyári zootábor 2. hete. Programok naponra 8:00-tól 16:00-ig.
X-ALT-DESC:<p>A nyári zootábor 2. hete. Programok naponra 8:00-tól 16:00-ig.</p>
LOCATION:Zootábor
URL:https://zoogyor.com/icalendar/event/ice_id/21
END:VEVENT
END:VCALENDAR
