BEGIN:VCALENDAR
VERSION:2.0
X-WR-TIMEZONE:Europe/Budapest
PRODID:AWE3
CALSCALE:GREGORIAN
BEGIN:VTIMEZONE
TZID:Europe/Budapest
X-LIC-LOCATION:Europe/Budapest
BEGIN:STANDARD
DTSTART:20221030T030000
TZOFFSETFROM:+0200
TZOFFSETTO:+0100
RDATE:20231029T030000
TZNAME:CET
END:STANDARD
BEGIN:DAYLIGHT
DTSTART:20220327T020000
TZOFFSETFROM:+0100
TZOFFSETTO:+0200
RDATE:20230326T020000
TZNAME:CEST
END:DAYLIGHT
END:VTIMEZONE
BEGIN:VEVENT
CLASS:PUBLIC
UID:83c3e27c83df83982412f9cd624d7e25
TRANSP:TRANSPARENCY
SUMMARY:Állatkertek éjszakája
DTSTART;TZID=Europe/Budapest:20240830T100000
DTEND;TZID=Europe/Budapest:20240830T220000
DESCRIPTION:Állatkertek éjszakája programok és hosszabb nyitvatartás. Nyári szezon záró program.
X-ALT-DESC:<p><span>Állatkertek éjszakája programok és hosszabb nyitvatartás. Nyári szezon záró program.</span></p>
LOCATION:
URL:https://zoogyor.com/icalendar/event/ice_id/30
END:VEVENT
END:VCALENDAR
