BEGIN:VCALENDAR
VERSION:2.0
X-WR-TIMEZONE:Europe/Budapest
PRODID:AWE3
CALSCALE:GREGORIAN
BEGIN:VTIMEZONE
TZID:Europe/Budapest
X-LIC-LOCATION:Europe/Budapest
BEGIN:STANDARD
DTSTART:20221030T030000
TZOFFSETFROM:+0200
TZOFFSETTO:+0100
RDATE:20231029T030000
TZNAME:CET
END:STANDARD
BEGIN:DAYLIGHT
DTSTART:20220327T020000
TZOFFSETFROM:+0100
TZOFFSETTO:+0200
RDATE:20230326T020000
TZNAME:CEST
END:DAYLIGHT
END:VTIMEZONE
BEGIN:VEVENT
CLASS:PUBLIC
UID:1d830f3a65f1177461260d4d45ee25b3
TRANSP:TRANSPARENCY
SUMMARY:Tigrisek világnapja
DTSTART;TZID=Europe/Budapest:20240729T000000
DTEND;TZID=Europe/Budapest:20240729T010000
DESCRIPTION:Tigrisek világnapja. Alkalom, hogy tudatosan odafigyeljünk ezekre a csodálatos állatokra, és felhívjuk a figyelmet az őket és otthonukat fenyegető veszélyekre.
X-ALT-DESC:<p>Tigrisek világnapja. Alkalom, hogy tudatosan odafigyeljünk ezekre a csodálatos állatokra, és felhívjuk a figyelmet az őket és otthonukat fenyegető veszélyekre.</p>
LOCATION:
URL:https://zoogyor.com/icalendar/event/ice_id/42
END:VEVENT
END:VCALENDAR
