BEGIN:VCALENDAR
VERSION:2.0
X-WR-TIMEZONE:Europe/Budapest
PRODID:AWE3
CALSCALE:GREGORIAN
BEGIN:VTIMEZONE
TZID:Europe/Budapest
X-LIC-LOCATION:Europe/Budapest
BEGIN:STANDARD
DTSTART:20221030T030000
TZOFFSETFROM:+0200
TZOFFSETTO:+0100
RDATE:20231029T030000
TZNAME:CET
END:STANDARD
BEGIN:DAYLIGHT
DTSTART:20220327T020000
TZOFFSETFROM:+0100
TZOFFSETTO:+0200
RDATE:20230326T020000
TZNAME:CEST
END:DAYLIGHT
END:VTIMEZONE
BEGIN:VEVENT
CLASS:PUBLIC
UID:738aed954644e9e9f0d0cb9c014bdf1c
TRANSP:TRANSPARENCY
SUMMARY:Állatkertek napja
DTSTART;TZID=Europe/Budapest:20240809T000000
DTEND;TZID=Europe/Budapest:20240809T010000
DESCRIPTION:Magyarország első állatkertje, a Budapesti Állat-és Növénykert 1966-ban ezen a napon nyitotta ki először a kapuit. Az első igazgató Xantus János, a győri állatkert névadója volt. A budapesti állatkert születésnapja azóta az összes magyar állatkert népszerűsítésére szolgáló nappá vált.
X-ALT-DESC:<p>Magyarország első állatkertje, a Budapesti Állat-és Növénykert 1966-ban ezen a napon nyitotta ki először a kapuit. Az első igazgató Xantus János, a győri állatkert névadója volt. A budapesti állatkert születésnapja azóta az összes magyar állatkert népszerűsítésére szolgáló nappá vált.</p>
LOCATION:
URL:https://zoogyor.com/icalendar/event/ice_id/43
END:VEVENT
END:VCALENDAR
