BEGIN:VCALENDAR
VERSION:2.0
X-WR-TIMEZONE:Europe/Budapest
PRODID:AWE3
CALSCALE:GREGORIAN
BEGIN:VTIMEZONE
TZID:Europe/Budapest
X-LIC-LOCATION:Europe/Budapest
BEGIN:STANDARD
DTSTART:20221030T030000
TZOFFSETFROM:+0200
TZOFFSETTO:+0100
RDATE:20231029T030000
TZNAME:CET
END:STANDARD
BEGIN:DAYLIGHT
DTSTART:20220327T020000
TZOFFSETFROM:+0100
TZOFFSETTO:+0200
RDATE:20230326T020000
TZNAME:CEST
END:DAYLIGHT
END:VTIMEZONE
BEGIN:VEVENT
CLASS:PUBLIC
UID:945f18baad873aa9227215ccf14856f0
TRANSP:TRANSPARENCY
SUMMARY:Gyurci szülinapja
DTSTART;TZID=Europe/Budapest:20240908T000000
DTEND;TZID=Europe/Budapest:20240908T010000
DESCRIPTION:Gyurci, a gibbon születésnapja.
X-ALT-DESC:<p>Gyurci, a gibbon születésnapja.</p>
LOCATION:
URL:https://zoogyor.com/icalendar/event/ice_id/46
END:VEVENT
END:VCALENDAR
