BEGIN:VCALENDAR
VERSION:2.0
X-WR-TIMEZONE:Europe/Budapest
PRODID:AWE3
CALSCALE:GREGORIAN
BEGIN:VTIMEZONE
TZID:Europe/Budapest
X-LIC-LOCATION:Europe/Budapest
BEGIN:STANDARD
DTSTART:20221030T030000
TZOFFSETFROM:+0200
TZOFFSETTO:+0100
RDATE:20231029T030000
TZNAME:CET
END:STANDARD
BEGIN:DAYLIGHT
DTSTART:20220327T020000
TZOFFSETFROM:+0100
TZOFFSETTO:+0200
RDATE:20230326T020000
TZNAME:CEST
END:DAYLIGHT
END:VTIMEZONE
BEGIN:VEVENT
CLASS:PUBLIC
UID:f4470154ff699c5ce17691764bea2c1e
TRANSP:TRANSPARENCY
SUMMARY:Haszonállatok világnapja
DTSTART;TZID=Europe/Budapest:20241002T000000
DTEND;TZID=Europe/Budapest:20241002T010000
DESCRIPTION:Haszonállatok világnapja. Alkalom, hogy tudatosan odafigyeljünk azokra az állatokra, amik az embert segítik nap, mint nap.
X-ALT-DESC:<p>Haszonállatok világnapja. Alkalom, hogy tudatosan odafigyeljünk azokra az állatokra, amik az embert segítik nap, mint nap.</p>
LOCATION:
URL:https://zoogyor.com/icalendar/event/ice_id/48
END:VEVENT
END:VCALENDAR
