BEGIN:VCALENDAR
VERSION:2.0
X-WR-TIMEZONE:Europe/Budapest
PRODID:AWE3
CALSCALE:GREGORIAN
BEGIN:VTIMEZONE
TZID:Europe/Budapest
X-LIC-LOCATION:Europe/Budapest
BEGIN:STANDARD
DTSTART:20221030T030000
TZOFFSETFROM:+0200
TZOFFSETTO:+0100
RDATE:20231029T030000
TZNAME:CET
END:STANDARD
BEGIN:DAYLIGHT
DTSTART:20220327T020000
TZOFFSETFROM:+0100
TZOFFSETTO:+0200
RDATE:20230326T020000
TZNAME:CEST
END:DAYLIGHT
END:VTIMEZONE
BEGIN:VEVENT
CLASS:PUBLIC
UID:4264fbffcbac430f2be66b0b9a07a1ba
TRANSP:TRANSPARENCY
SUMMARY:Örökbefogadói Nap
DTSTART;TZID=Europe/Budapest:20241116T100000
DTEND;TZID=Europe/Budapest:20241116T150000
DESCRIPTION:Az örökbefogadói nap egy zártkörű esemény azoknak, akik ebben az évben állat örökbefogadással támogatták az állatkertet. További résszletek az esemény leírásnál.
X-ALT-DESC:<p><span>Az örökbefogadói nap egy zártkörű esemény azoknak, akik ebben az évben állat örökbefogadással támogatták az állatkertet. További résszletek az esemény leírásnál.</span></p>
LOCATION:indulás a Kőszínpadtól, állófogadás helyszíne a Csarnok Játszóház
URL:https://zoogyor.com/icalendar/event/ice_id/58
END:VEVENT
END:VCALENDAR
