BEGIN:VCALENDAR
VERSION:2.0
X-WR-TIMEZONE:Europe/Budapest
PRODID:AWE3
CALSCALE:GREGORIAN
BEGIN:VTIMEZONE
TZID:Europe/Budapest
X-LIC-LOCATION:Europe/Budapest
BEGIN:STANDARD
DTSTART:20221030T030000
TZOFFSETFROM:+0200
TZOFFSETTO:+0100
RDATE:20231029T030000
TZNAME:CET
END:STANDARD
BEGIN:DAYLIGHT
DTSTART:20220327T020000
TZOFFSETFROM:+0100
TZOFFSETTO:+0200
RDATE:20230326T020000
TZNAME:CEST
END:DAYLIGHT
END:VTIMEZONE
BEGIN:VEVENT
CLASS:PUBLIC
UID:ee7305e836911f3e0232eeb17ae4668f
TRANSP:TRANSPARENCY
SUMMARY:Zahira születésnapja
DTSTART;TZID=Europe/Budapest:20241226T000000
DTEND;TZID=Europe/Budapest:20241226T010000
DESCRIPTION:Zahira, a csimpánz születésnapja.
X-ALT-DESC:<p>Zahira, a csimpánz születésnapja.</p>
LOCATION:
URL:https://zoogyor.com/icalendar/event/ice_id/64
END:VEVENT
END:VCALENDAR
